BEGIN:VCALENDAR
VERSION:2.0
PRODID:-//LA BELLE LURETTE - ECPv6.8.1//NONSGML v1.0//EN
CALSCALE:GREGORIAN
METHOD:PUBLISH
X-ORIGINAL-URL:https://bar-labellelurette.com
X-WR-CALDESC:Évènements pour LA BELLE LURETTE
REFRESH-INTERVAL;VALUE=DURATION:PT1H
X-Robots-Tag:noindex
X-PUBLISHED-TTL:PT1H
BEGIN:VTIMEZONE
TZID:Europe/Paris
BEGIN:DAYLIGHT
TZOFFSETFROM:+0100
TZOFFSETTO:+0200
TZNAME:CEST
DTSTART:20240331T010000
END:DAYLIGHT
BEGIN:STANDARD
TZOFFSETFROM:+0200
TZOFFSETTO:+0100
TZNAME:CET
DTSTART:20241027T010000
END:STANDARD
END:VTIMEZONE
BEGIN:VEVENT
DTSTART;TZID=Europe/Paris:20241214T220000
DTEND;TZID=Europe/Paris:20241214T233000
DTSTAMP:20260425T054415
CREATED:20241212T234839Z
LAST-MODIFIED:20241212T234839Z
UID:880-1734213600-1734219000@bar-labellelurette.com
SUMMARY:GALEN HARTLEY Indie Folk + Dj set La Petite Populaire
DESCRIPTION:Nous aurons le plaisir de partager la soirée avec nos amis réolais qui nous ont concocté une programmation au cordeau. Si David assurera la bande son de notre soirée les bras chargés de vinyls\, c’est Galen Hartley qui aura en charge la partie live. Le musicien\, poète\, luthier … canadien partagera un répertoire indie folk d’une finesse absolue ! \nGalen Hartley est un poète folk et absurde\, d’un romantisme un brin démodé\, qui a pour habitude de laisser de complexes questions politiques et personnelles occuper son esprit jusqu’à ce qu’elles deviennent des chansons.\nSes textes s’enracinent dans un vocabulaire d’images\, d’impression\, et une logique du rêve\, pour fabriquer des narrations et des méditations plus subliminales que traditionnelles. En tant que guitariste\, Galen Hartley est quelque part à la croisée entre Mississippi John Hurt et Nick Drake. S’il reste résolument un musicien folk\, ses compositions trahissent un régime assidu d’influences diverses\, telles que Nina Simone\, Joao Gilberto\, Tom Waits\, Roy Orbison et Kate Bush. Ses chansons s’incarnent dans une voix de tenor claire et imagée\, et une présence simple et humble sur scène. On compare parfois ses aïgus à James Blunt – mais ça s’arrête là. Il pourrait plutôt se tenir du côté d’un Paul Simon un tantinet plus rock and roll\, ou d’un Andrew Bird sans violon ni sifflotement.\n\nhttps://www.youtube.com/watch?v=wHycItw-7ok
URL:https://bar-labellelurette.com/event/galen-hartley-indie-folk-dj-set-la-petite-populaire/
LOCATION:La Belle Lurette\, 2\, place du Général De Gaulle\, Saint Macaire\, 33490
CATEGORIES:Concert,DJ
ATTACH;FMTTYPE=image/webp:https://bar-labellelurette.com/wp-content/uploads/2024/12/b_W10-scaled.webp
END:VEVENT
END:VCALENDAR