BEGIN:VCALENDAR
VERSION:2.0
PRODID:-//LA BELLE LURETTE - ECPv6.8.1//NONSGML v1.0//EN
CALSCALE:GREGORIAN
METHOD:PUBLISH
X-WR-CALNAME:LA BELLE LURETTE
X-ORIGINAL-URL:https://bar-labellelurette.com
X-WR-CALDESC:Évènements pour LA BELLE LURETTE
REFRESH-INTERVAL;VALUE=DURATION:PT1H
X-Robots-Tag:noindex
X-PUBLISHED-TTL:PT1H
BEGIN:VTIMEZONE
TZID:Europe/Paris
BEGIN:DAYLIGHT
TZOFFSETFROM:+0100
TZOFFSETTO:+0200
TZNAME:CEST
DTSTART:20250330T010000
END:DAYLIGHT
BEGIN:STANDARD
TZOFFSETFROM:+0200
TZOFFSETTO:+0100
TZNAME:CET
DTSTART:20251026T010000
END:STANDARD
END:VTIMEZONE
BEGIN:VEVENT
DTSTART;TZID=Europe/Paris:20251206T220000
DTEND;TZID=Europe/Paris:20251206T233000
DTSTAMP:20260422T225007
CREATED:20251026T220603Z
LAST-MODIFIED:20251026T220736Z
UID:1040-1765058400-1765063800@bar-labellelurette.com
SUMMARY:ELIASSE rock zangoma
DESCRIPTION:Ne dites plus blues comorien ni rock de l’océan Indien : Eliasse est ZANGOMA !\nCe concept musical créé par Baco\, célèbre musicien comorien\, vient nommer la rencontre des musiques occidentales et des musiques comoriennes et indo-océaniques.\nSon rock zangoma\, Eliasse le crée en mélangeant le rock\, le blues\, la folk aux rythmes typiques de son archipel et plus largement d’Afrique.\nDu twarab au mgodro\, du maloya à l’afrobeat\, le rock zangoma dévoile son visage pluriel. Sa base est le tambour (ngoma) et le rock percussif d’Eliasse revendique cette bannière commune et hybride ! \nAvec son troisième album\, éponyme intitulé Zangoma\, sorti le 12 avril 2024 (Soulbeats Music)\, Eliasse et son power trio promettent à nouveau de vous livrer du groove : batterie puissante de Fred Girard\, guitare rugissante d’Eliasse\, basse chaloupante de Jérémy Ortal et mille nuances de voix.\nEliasse propose une œuvre complexe et riche\, un carrefour où convergent les sons\, les histoires et les aspirations d’un artiste. Eliasse nous invite à une exploration musicale où chaque titre révèle une facette de son engagement artistique et émotionnel\, faisant de « Zangoma » un hymne à la vie\, à la culture comorienne et à la résilience des peuples.\nBref : l’océan Indien danse le ROCK ZANGOMA !
URL:https://bar-labellelurette.com/event/eliasse-rock-zangoma/
LOCATION:La Belle Lurette\, 2\, place du Général De Gaulle\, Saint Macaire\, 33490
CATEGORIES:Concert
ATTACH;FMTTYPE=image/jpeg:https://bar-labellelurette.com/wp-content/uploads/2025/10/Eliasse-©Ken-Wong-Youk-Hong.jpg
END:VEVENT
END:VCALENDAR