BEGIN:VCALENDAR
VERSION:2.0
PRODID:-//LA BELLE LURETTE - ECPv6.8.1//NONSGML v1.0//EN
CALSCALE:GREGORIAN
METHOD:PUBLISH
X-ORIGINAL-URL:https://bar-labellelurette.com
X-WR-CALDESC:Évènements pour LA BELLE LURETTE
REFRESH-INTERVAL;VALUE=DURATION:PT1H
X-Robots-Tag:noindex
X-PUBLISHED-TTL:PT1H
BEGIN:VTIMEZONE
TZID:Europe/Paris
BEGIN:DAYLIGHT
TZOFFSETFROM:+0100
TZOFFSETTO:+0200
TZNAME:CEST
DTSTART:20250330T010000
END:DAYLIGHT
BEGIN:STANDARD
TZOFFSETFROM:+0200
TZOFFSETTO:+0100
TZNAME:CET
DTSTART:20251026T010000
END:STANDARD
END:VTIMEZONE
BEGIN:VEVENT
DTSTART;TZID=Europe/Paris:20251205T220000
DTEND;TZID=Europe/Paris:20251205T233000
DTSTAMP:20260425T140851
CREATED:20251027T232632Z
LAST-MODIFIED:20251027T232632Z
UID:1056-1764972000-1764977400@bar-labellelurette.com
SUMMARY:GARCE "release party" indie rock
DESCRIPTION:Originaire du quartier Saint-Michel\, à Bordeaux\, le duo Garce n’a pas choisi d’appeler son album “Scolopendre” par hasard. Cousin de ce charmant insecte souvent invisible à l’oeil nu mais pourtant pas moins effrayant. Le groupe se faufile entre noise\, math rock et fureur hardcore. Un mélange sale\, électrique\, lourd qui ne se refuse pas quelques envolées vers une transe physique et psychique complètement libératoires. Des labyrinthes de riffs et de guitares où surnage une forme de grâce équilibriste\, entre bruitisme et mélodies. \nLa musique de Garce a fait ses preuves en concert\, où sa fièvre largement communicative électrise régulièrement un public qui en redemande. Sans prétention et sans garde-fou mais avec une bonne dose de sincérité\, cet opus Scolopendre évoque à la manière d’un street-journal la vie et les rencontres faites par Malik (batterie) et Henry (guitare) dans ce quartier où le groupe est né.
URL:https://bar-labellelurette.com/event/garce-release-party-indie-rock/
LOCATION:La Belle Lurette\, 2\, place du Général De Gaulle\, Saint Macaire\, 33490
CATEGORIES:Concert
ATTACH;FMTTYPE=image/jpeg:https://bar-labellelurette.com/wp-content/uploads/2025/10/cvp8kk2n0c6vs7y6ya2tdfccawyl.jpg
END:VEVENT
END:VCALENDAR