BEGIN:VCALENDAR
VERSION:2.0
PRODID:-//LA BELLE LURETTE - ECPv6.8.1//NONSGML v1.0//EN
CALSCALE:GREGORIAN
METHOD:PUBLISH
X-WR-CALNAME:LA BELLE LURETTE
X-ORIGINAL-URL:https://bar-labellelurette.com
X-WR-CALDESC:Évènements pour LA BELLE LURETTE
REFRESH-INTERVAL;VALUE=DURATION:PT1H
X-Robots-Tag:noindex
X-PUBLISHED-TTL:PT1H
BEGIN:VTIMEZONE
TZID:Europe/Paris
BEGIN:DAYLIGHT
TZOFFSETFROM:+0100
TZOFFSETTO:+0200
TZNAME:CEST
DTSTART:20250330T010000
END:DAYLIGHT
BEGIN:STANDARD
TZOFFSETFROM:+0200
TZOFFSETTO:+0100
TZNAME:CET
DTSTART:20251026T010000
END:STANDARD
END:VTIMEZONE
BEGIN:VEVENT
DTSTART;TZID=Europe/Paris:20251129T220000
DTEND;TZID=Europe/Paris:20251129T233000
DTSTAMP:20260425T155654
CREATED:20251026T215904Z
LAST-MODIFIED:20251026T215904Z
UID:1037-1764453600-1764459000@bar-labellelurette.com
SUMMARY:BEARCATZ boogie blues
DESCRIPTION:A la manière de Robert Johnson ou de Muddy Waters\, ils produisent un groove boogie dans la filiation de John Lee Hooker. Adeptes des bons riffs de guitare\, les deux complices laissent part à l’improvisation et leur imagination. Le résultat ? « Westland Blues ! \n 
URL:https://bar-labellelurette.com/event/bearcatz-boogie-blues/
LOCATION:La Belle Lurette\, 2\, place du Général De Gaulle\, Saint Macaire\, 33490
CATEGORIES:Concert
ATTACH;FMTTYPE=image/jpeg:https://bar-labellelurette.com/wp-content/uploads/2025/10/482252134_1240070094510933_2878998408688255964_n.jpg
END:VEVENT
END:VCALENDAR