BEGIN:VCALENDAR
VERSION:2.0
PRODID:-//LA BELLE LURETTE - ECPv6.8.1//NONSGML v1.0//EN
CALSCALE:GREGORIAN
METHOD:PUBLISH
X-ORIGINAL-URL:https://bar-labellelurette.com
X-WR-CALDESC:Évènements pour LA BELLE LURETTE
REFRESH-INTERVAL;VALUE=DURATION:PT1H
X-Robots-Tag:noindex
X-PUBLISHED-TTL:PT1H
BEGIN:VTIMEZONE
TZID:Europe/Paris
BEGIN:DAYLIGHT
TZOFFSETFROM:+0100
TZOFFSETTO:+0200
TZNAME:CEST
DTSTART:20250330T010000
END:DAYLIGHT
BEGIN:STANDARD
TZOFFSETFROM:+0200
TZOFFSETTO:+0100
TZNAME:CET
DTSTART:20251026T010000
END:STANDARD
END:VTIMEZONE
BEGIN:VEVENT
DTSTART;TZID=Europe/Paris:20251025T220000
DTEND;TZID=Europe/Paris:20251025T233000
DTSTAMP:20260425T140750
CREATED:20251024T230007Z
LAST-MODIFIED:20251024T230351Z
UID:1023-1761429600-1761435000@bar-labellelurette.com
SUMMARY:TIGER ROSE boogie & roots
DESCRIPTION:Tiger Rose s’inspire de l’esprit des années 30 à 50 aux USA. Gospel du Sud profond du Mississippi Blues le plus intense au Boogie hypnotique de Détroit\, Tiger Rose vous embarque dès les premières mesures. Deux voix uniques et puissantes au serviced’un son brut et sans artifices.\n\n\n\nMig et Loretta sont bien connus du circuit Blues Européen : qui a déjà vu « Loretta and the Bad Kings » ne peut avoir oublié le charisme et la sensibilité de la chanteuse\, harmoniciste\, contrebassiste. Mig\, lui\, a reçu en 2002 le Trophée France Blues de meilleur chanteur et fort de son expérience en tant qu’accompagnateur\, à la basse et contrebasse\, de nombreux performers américains\, il prend ici la guitare et forme avec Loretta un duo déjà acclamé par les critiques tels que Blues Magazine ou Soul Bag Mag entre autres.
URL:https://bar-labellelurette.com/event/tiger-rose-boogie-roots/
LOCATION:La Belle Lurette\, 2\, place du Général De Gaulle\, Saint Macaire\, 33490
CATEGORIES:Concert
ATTACH;FMTTYPE=image/jpeg:https://bar-labellelurette.com/wp-content/uploads/2025/10/569605322_122196456146548566_1228909229447791370_n.jpg
END:VEVENT
END:VCALENDAR