BEGIN:VCALENDAR
VERSION:2.0
PRODID:-//LA BELLE LURETTE - ECPv6.8.1//NONSGML v1.0//EN
CALSCALE:GREGORIAN
METHOD:PUBLISH
X-ORIGINAL-URL:https://bar-labellelurette.com
X-WR-CALDESC:Évènements pour LA BELLE LURETTE
REFRESH-INTERVAL;VALUE=DURATION:PT1H
X-Robots-Tag:noindex
X-PUBLISHED-TTL:PT1H
BEGIN:VTIMEZONE
TZID:Europe/Paris
BEGIN:DAYLIGHT
TZOFFSETFROM:+0100
TZOFFSETTO:+0200
TZNAME:CEST
DTSTART:20240331T010000
END:DAYLIGHT
BEGIN:STANDARD
TZOFFSETFROM:+0200
TZOFFSETTO:+0100
TZNAME:CET
DTSTART:20241027T010000
END:STANDARD
END:VTIMEZONE
BEGIN:VEVENT
DTSTART;TZID=Europe/Paris:20240413T220000
DTEND;TZID=Europe/Paris:20240413T233000
DTSTAMP:20260421T121612
CREATED:20240328T214549Z
LAST-MODIFIED:20240328T214549Z
UID:717-1713045600-1713051000@bar-labellelurette.com
SUMMARY:A NIGHT with LUIS PRIMA (Swing Jazz Vocal)
DESCRIPTION:Flora Estel et ses acolytes vous invitent à une plongée spectaculaire dans l’ambiance délirante des nuits de Las Vegas\, sur les traces de Louis Prima\, chanteur\, trompettiste\, scatteur de génie. \nUn swing d’enfer\, des arrangements musclés\, un moment inoubliable pour tous les fans de Just a Gigolo\, Buona Sera\, Jump Jive ‘n’ Wail\, Night Train et tant d’autres titres de légende. » \nAvec : Flora Estel : chant / Hot Pepino : piano / Lilian Camelio : batterie / Aurélien Gody : contrebasse / Mateo Aupitre : saxophone / Jérôme Dubois : trompette
URL:https://bar-labellelurette.com/event/a-night-with-luis-prima-swing-jazz-vocal/
LOCATION:La Belle Lurette\, 2\, place du Général De Gaulle\, Saint Macaire\, 33490
CATEGORIES:Concert
ATTACH;FMTTYPE=image/webp:https://bar-labellelurette.com/wp-content/uploads/2024/03/louis-prima.webp
END:VEVENT
END:VCALENDAR